BEGIN:VCALENDAR
VERSION:2.0
PRODID:ZS-KLADSKA//CZ
BEGIN:VEVENT
UID:69ecb737aa490
DTSTART:20260427T220000Z
SEQUENCE:0
TRANSP:OPAQUE
DTEND:20260427T220000Z
URL:/event/vyukovy-program-v-knihovne-na-vinohradech/11953
SUMMARY:Výukový program v Knihovně na Vinohradech
CLASS:PUBLIC
DESCRIPTION:Školní detektiv\, 1. třídy
DTSTAMP:20260425T144439Z
END:VEVENT
END:VCALENDAR