BEGIN:VCALENDAR
VERSION:2.0
PRODID:ZS-KLADSKA//CZ
BEGIN:VEVENT
UID:69ecb67cc3387
DTSTART:20260426T220000Z
SEQUENCE:0
TRANSP:OPAQUE
DTEND:20260426T220000Z
URL:/event/prevence-bezpecnost-online-4-b/11952
SUMMARY:Prevence: Bezpečnost online\, 4.B
CLASS:PUBLIC
DTSTAMP:20260425T144132Z
END:VEVENT
END:VCALENDAR