BEGIN:VCALENDAR
VERSION:2.0
PRODID:ZS-KLADSKA//CZ
BEGIN:VEVENT
UID:69e772abb647f
DTSTART:20260426T220000Z
SEQUENCE:0
TRANSP:OPAQUE
DTEND:20260426T220000Z
URL:/event/prevence-kybersikana-5-b/11951
SUMMARY:Prevence: Kyberšikana\, 5.B
CLASS:PUBLIC
DTSTAMP:20260421T145051Z
END:VEVENT
END:VCALENDAR