BEGIN:VCALENDAR
VERSION:2.0
PRODID:ZS-KLADSKA//CZ
BEGIN:VEVENT
UID:69e77300221f3
DTSTART:20260422T220000Z
SEQUENCE:0
TRANSP:OPAQUE
DTEND:20260422T220000Z
URL:/event/vyukovy-program-v-knihovne-na-vinohradech/11950
SUMMARY:Výukový program v Knihovně na Vinohradech
CLASS:PUBLIC
DESCRIPTION:Kočkování a druhy knih\, 3.A
DTSTAMP:20260421T145216Z
END:VEVENT
END:VCALENDAR