BEGIN:VCALENDAR
VERSION:2.0
PRODID:ZS-KLADSKA//CZ
BEGIN:VEVENT
UID:69e774a6bf809
DTSTART:20260422T220000Z
SEQUENCE:0
TRANSP:OPAQUE
DTEND:20260422T220000Z
URL:/event/vyukovy-program-v-knihovne-na-vinohradec/11949
SUMMARY:Výukový program v Knihovně na Vinohradec
CLASS:PUBLIC
DESCRIPTION:Literární žánry\, 4.B
DTSTAMP:20260421T145918Z
END:VEVENT
END:VCALENDAR