BEGIN:VCALENDAR
VERSION:2.0
PRODID:ZS-KLADSKA//CZ
BEGIN:VEVENT
UID:69e638d0a7f1b
DTSTART:20260420T220000Z
SEQUENCE:0
TRANSP:OPAQUE
DTEND:20260420T220000Z
URL:/event/aprilovy-beh-s-kuretem/11948
SUMMARY:Aprílový běh s kuřetem
CLASS:PUBLIC
DESCRIPTION:výběr žáků z 2. – 5. tříd
DTSTAMP:20260420T163144Z
END:VEVENT
END:VCALENDAR